BEGIN:VCALENDAR
VERSION:2.0
PRODID:-//Psychoanalytische Bibliothek Berlin - ECPv6.15.20//NONSGML v1.0//EN
CALSCALE:GREGORIAN
METHOD:PUBLISH
X-ORIGINAL-URL:https://psybi-berlin.de
X-WR-CALDESC:Veranstaltungen für Psychoanalytische Bibliothek Berlin
REFRESH-INTERVAL;VALUE=DURATION:PT1H
X-Robots-Tag:noindex
X-PUBLISHED-TTL:PT1H
BEGIN:VTIMEZONE
TZID:Europe/Berlin
BEGIN:DAYLIGHT
TZOFFSETFROM:+0100
TZOFFSETTO:+0200
TZNAME:CEST
DTSTART:20230326T010000
END:DAYLIGHT
BEGIN:STANDARD
TZOFFSETFROM:+0200
TZOFFSETTO:+0100
TZNAME:CET
DTSTART:20231029T010000
END:STANDARD
BEGIN:DAYLIGHT
TZOFFSETFROM:+0100
TZOFFSETTO:+0200
TZNAME:CEST
DTSTART:20240331T010000
END:DAYLIGHT
BEGIN:STANDARD
TZOFFSETFROM:+0200
TZOFFSETTO:+0100
TZNAME:CET
DTSTART:20241027T010000
END:STANDARD
BEGIN:DAYLIGHT
TZOFFSETFROM:+0100
TZOFFSETTO:+0200
TZNAME:CEST
DTSTART:20250330T010000
END:DAYLIGHT
BEGIN:STANDARD
TZOFFSETFROM:+0200
TZOFFSETTO:+0100
TZNAME:CET
DTSTART:20251026T010000
END:STANDARD
END:VTIMEZONE
BEGIN:VEVENT
DTSTART;TZID=Europe/Berlin:20241016T163000
DTEND;TZID=Europe/Berlin:20241016T180000
DTSTAMP:20260424T145032
CREATED:20240825T202510Z
LAST-MODIFIED:20240829T135323Z
UID:159092-1729096200-1729101600@psybi-berlin.de
SUMMARY:Lacan liest Freuds Traumdeutung
DESCRIPTION:Um nachzuvollziehen\, wie Jacques Lacan Sigmund Freuds Jahrhundertbuch – Die Traumdeutung – liest\, gilt es zunächst eben dieses Buch selbst zu lesen und seine verschiedenen Schichten zu erfassen: die der Erfindung von etwas Neuem (von was genau: einer Methode\, einem Diskurs\, einem neuen epistemischen Ding?)\, ebenso wie die der eigenen Analyse\, die Freud hier an zahlreichen eigenen Träumen unternimmt\, aber auch die der Übermittlung\, insofern die Traumdeutung zugleich eine Art Brief an zukünftige\, werdende Psychoanalytiker ist. \nLacan hat im Zuge seiner Lektüre einigen der Träume und ihren Deutungen durch Freud ausführliche Analysen gewidmet\, allen voran dem Traum von „Irmas Injektion“. Er hat aber auch Freuds Theorie vom Traum und vom psychischen Apparat einer grundlegenden Neuinterpretation unterzogen. Um beides soll es im Seminar gehen. \nDas Seminar richtet sich ebenso an Anfänger wie an Fortgeschrittene\, an praktisch wie theoretisch an der Psychoanalyse Interessierte.
URL:https://psybi-berlin.de/event/lacan-liest-freuds-traumdeutung/
CATEGORIES:Seminare und Arbeitsgruppen
ATTACH;FMTTYPE=image/bmp:https://psybi-berlin.de/wp-content/uploads/2024/08/Czeschka-1908-scaled.bmp
END:VEVENT
END:VCALENDAR