BEGIN:VCALENDAR
VERSION:2.0
PRODID:-//Psychoanalytische Bibliothek Berlin - ECPv6.15.20//NONSGML v1.0//EN
CALSCALE:GREGORIAN
METHOD:PUBLISH
X-WR-CALNAME:Psychoanalytische Bibliothek Berlin
X-ORIGINAL-URL:https://psybi-berlin.de
X-WR-CALDESC:Veranstaltungen für Psychoanalytische Bibliothek Berlin
REFRESH-INTERVAL;VALUE=DURATION:PT1H
X-Robots-Tag:noindex
X-PUBLISHED-TTL:PT1H
BEGIN:VTIMEZONE
TZID:Europe/Berlin
BEGIN:DAYLIGHT
TZOFFSETFROM:+0100
TZOFFSETTO:+0200
TZNAME:CEST
DTSTART:20230326T010000
END:DAYLIGHT
BEGIN:STANDARD
TZOFFSETFROM:+0200
TZOFFSETTO:+0100
TZNAME:CET
DTSTART:20231029T010000
END:STANDARD
BEGIN:DAYLIGHT
TZOFFSETFROM:+0100
TZOFFSETTO:+0200
TZNAME:CEST
DTSTART:20240331T010000
END:DAYLIGHT
BEGIN:STANDARD
TZOFFSETFROM:+0200
TZOFFSETTO:+0100
TZNAME:CET
DTSTART:20241027T010000
END:STANDARD
BEGIN:DAYLIGHT
TZOFFSETFROM:+0100
TZOFFSETTO:+0200
TZNAME:CEST
DTSTART:20250330T010000
END:DAYLIGHT
BEGIN:STANDARD
TZOFFSETFROM:+0200
TZOFFSETTO:+0100
TZNAME:CET
DTSTART:20251026T010000
END:STANDARD
END:VTIMEZONE
BEGIN:VEVENT
DTSTART;TZID=Europe/Berlin:20241006T173000
DTEND;TZID=Europe/Berlin:20241006T190000
DTSTAMP:20260424T145556
CREATED:20240825T194537Z
LAST-MODIFIED:20240825T194537Z
UID:159049-1728235800-1728241200@psybi-berlin.de
SUMMARY:LLL Lacan Lesen Lehren: Mon enseignement / meine Lehre (neue Übersetzung)
DESCRIPTION:Es soll eine Art Reise mit\, über und jenseits Lacans Opus „Meine Lehre“ werden. Dabei sollen auffällige und unauffällige Referenzen untersucht werden\, um diesen dichten Text zu entfalten.\nWir haben eine neue\, unveröffentlichte Übersetzung erarbeitet\, da uns die offizielle und publizierte als fehlerhaft scheint.
URL:https://psybi-berlin.de/event/lll-lacan-lesen-lehren-mon-enseignement-meine-lehre-neue-uebersetzung-2/
CATEGORIES:Lektüregruppen zu Texten Lacan
END:VEVENT
END:VCALENDAR