BEGIN:VCALENDAR
VERSION:2.0
PRODID:-//Psychoanalytische Bibliothek Berlin - ECPv6.15.20//NONSGML v1.0//EN
CALSCALE:GREGORIAN
METHOD:PUBLISH
X-ORIGINAL-URL:https://psybi-berlin.de
X-WR-CALDESC:Veranstaltungen für Psychoanalytische Bibliothek Berlin
REFRESH-INTERVAL;VALUE=DURATION:PT1H
X-Robots-Tag:noindex
X-PUBLISHED-TTL:PT1H
BEGIN:VTIMEZONE
TZID:Europe/Berlin
BEGIN:DAYLIGHT
TZOFFSETFROM:+0100
TZOFFSETTO:+0200
TZNAME:CEST
DTSTART:20230326T010000
END:DAYLIGHT
BEGIN:STANDARD
TZOFFSETFROM:+0200
TZOFFSETTO:+0100
TZNAME:CET
DTSTART:20231029T010000
END:STANDARD
BEGIN:DAYLIGHT
TZOFFSETFROM:+0100
TZOFFSETTO:+0200
TZNAME:CEST
DTSTART:20240331T010000
END:DAYLIGHT
BEGIN:STANDARD
TZOFFSETFROM:+0200
TZOFFSETTO:+0100
TZNAME:CET
DTSTART:20241027T010000
END:STANDARD
BEGIN:DAYLIGHT
TZOFFSETFROM:+0100
TZOFFSETTO:+0200
TZNAME:CEST
DTSTART:20250330T010000
END:DAYLIGHT
BEGIN:STANDARD
TZOFFSETFROM:+0200
TZOFFSETTO:+0100
TZNAME:CET
DTSTART:20251026T010000
END:STANDARD
END:VTIMEZONE
BEGIN:VEVENT
DTSTART;TZID=Europe/Berlin:20240928T090000
DTEND;TZID=Europe/Berlin:20240928T130000
DTSTAMP:20260424T161516
CREATED:20240824T130753Z
LAST-MODIFIED:20240917T085136Z
UID:159019-1727514000-1727528400@psybi-berlin.de
SUMMARY:Freud et Napoléon: Catherine Muller – Lacan et Laplanche: Patrick Guyomard
DESCRIPTION:Catherine Muller: Freud und Napoleon: der Geschwisterkomplex\nWie Freud auf das eingeht\, was er in seinem Werk nur ein einziges Mal „den Geschwisterkomplex“ nennen wird\, ist das Thema dieses Vortrags von Catherine Muller. Doch mehr noch als die greifbaren Schriften\, sind es die in Freuds Deutung des Geschwisterkomplexes von Napoleon auftauchenden Auslassungen\, Widersprüche und Verwirrungen\, die die französische Psychoanalytikerin anspornte\, ein Buch zu schreiben. \nPatrick Guyomard: Jacques Lacan und Jean Laplanche\nDer französische Psychoanalytiker und Philosoph Patrick Guyomard hat sich intensiv mit Gemeinsamkeiten und Gegensätzen zwischen Jean Laplanche und Jacques Lacan beschäftigt.\nDie Tatsache\, dass in Deutschland die Rezeption Lacans oft über die Texte Laplanches erfolgt\, gibt uns hier zu denken. Der angestrebte Gewinn besteht offenbar darin\, Lacan schneller und leichter zu verstehen. Aber wie groß ist dadurch die Gefahr\, dass Lacans Denken verzerrt wird?
URL:https://psybi-berlin.de/event/freud-et-napoleon-catherine-muller-lacan-et-laplanche-patrick-guyomard/
CATEGORIES:Wochenendveranstaltungen
END:VEVENT
END:VCALENDAR