BEGIN:VCALENDAR
VERSION:2.0
PRODID:-//Psychoanalytische Bibliothek Berlin - ECPv6.15.20//NONSGML v1.0//EN
CALSCALE:GREGORIAN
METHOD:PUBLISH
X-ORIGINAL-URL:https://psybi-berlin.de
X-WR-CALDESC:Veranstaltungen für Psychoanalytische Bibliothek Berlin
REFRESH-INTERVAL;VALUE=DURATION:PT1H
X-Robots-Tag:noindex
X-PUBLISHED-TTL:PT1H
BEGIN:VTIMEZONE
TZID:Europe/Berlin
BEGIN:DAYLIGHT
TZOFFSETFROM:+0100
TZOFFSETTO:+0200
TZNAME:CEST
DTSTART:20230326T010000
END:DAYLIGHT
BEGIN:STANDARD
TZOFFSETFROM:+0200
TZOFFSETTO:+0100
TZNAME:CET
DTSTART:20231029T010000
END:STANDARD
BEGIN:DAYLIGHT
TZOFFSETFROM:+0100
TZOFFSETTO:+0200
TZNAME:CEST
DTSTART:20240331T010000
END:DAYLIGHT
BEGIN:STANDARD
TZOFFSETFROM:+0200
TZOFFSETTO:+0100
TZNAME:CET
DTSTART:20241027T010000
END:STANDARD
BEGIN:DAYLIGHT
TZOFFSETFROM:+0100
TZOFFSETTO:+0200
TZNAME:CEST
DTSTART:20250330T010000
END:DAYLIGHT
BEGIN:STANDARD
TZOFFSETFROM:+0200
TZOFFSETTO:+0100
TZNAME:CET
DTSTART:20251026T010000
END:STANDARD
END:VTIMEZONE
BEGIN:VEVENT
DTSTART;TZID=Europe/Berlin:20240927T193000
DTEND;TZID=Europe/Berlin:20240927T213000
DTSTAMP:20260424T162220
CREATED:20240822T090455Z
LAST-MODIFIED:20240917T085027Z
UID:159011-1727465400-1727472600@psybi-berlin.de
SUMMARY:„Freud hat es nicht nötig\, mich zu sehen\, damit er mich anschaut/angeht“
DESCRIPTION:Die Psychoanalytiker Catherine Muller und Patrick Guyomard haben Lacan persönlich gekannt\, mit ihm gearbeitet und korrespondiert. Sie haben seine Couch als Analysanten erlebt und mit ihm Supervisionen durchgeführt. Über ihre Erfahrungen und Erkenntnisse sprechen sie an diesem Abend sowie von Lacans großartiger Übertragung zu Freud\, die in seiner Praxis und seiner Leidenschaft für die Psychoanalyse spürbar war. \nCatherine Muller ist Psychoanalytikerin und hat einen Abschluss in Philosophie und Psychologie. Sie verfügt über langjährigen Erfahrungen in der psychoanalytischen Praxis mit Analytikern verschiedener psychoanalytischer Vereinigungen. Sie absolvierte ihre Ausbildung bei Jacques Lacan in der École freudienne de Paris. Nach deren Auflösung beteiligte sie sich an der Gründung der Cartels Constituants de l’Analyse freudienne (Kartells als Bestandteile der Freudschen Analyse)\, während sie ihre klinische Tätigkeit in der Psychiatrie fortsetzte\, die sie mit Henri Ey in Bonneval begonnen hatte\, dann arbeitete sie in einem Sektor der Erwachsenenpsychiatrie und bei Kindern und Jugendlichen in Schwierigkeiten. Derzeit ist sie Mitglied der Société de psychanalyse freudienne (SPF)/(Gesellschaft für Freudsche Psychoanalyse)\, deren Vizepräsidentin sie war. Sie kannte Lacan persönlich\, korrespondierte und arbeitete mit ihm und machte eine Supervision bei ihm. \nNeben zahlreichen Artikeln ist sie Autorin von: \n\nL’énigme\, une passion freudienne (Érès\, 2004) : Das Rätsel\, eine freudianische Leidenschaft;\nFreud et le transfert (Campagne Première\, 2021) : Freud und die Übertragung;\nFreud et Napoléon. Le complexe fraternel (Campagne Première\, 2022. Prix Œdipe 2023) : Freud und Napoleon. Der Geschwisterkomplex.\n\n  \nPatrick Guyomard ist Psychoanalytiker in Paris und Präsident der Société de psychanalyse freudienne (SPF)/Gesellschaft für Freudsche Psychoanalyse\, gegründet nach der Auflösung 1994 des Centre de formation et de recherches psychanalytiques (CFRP)/Zentrum für psychoanalytische Ausbildung und Forschung\, das unser Gast 1982 zusammen mit Octave und Maud Manoni gründete. Zweck der SPF ist die Vermittlung der Psychoanalyse und die Ausbildung von Psychoanalytikern. Patrick Guyomard ist außerdem Professor an der Universität Paris Diderot\, er ist Philosoph und ehemaliger Schüler der berühmten École normale supérieure (École de la rue d’Ulm). \nAus seinen zahlreichen Seminaren und Artikeln sollen hier drei Bücher erwähnt werden: \n\nLa jouissance du tragique. Antigone\, Lacan et le désir de l’analyste (Paris\, Aubier\, 1992) : Das Genießen des Tragischen. Antigone\, Lacan und das Begehren des Analytikers;\nLe désir d’éthique (Paris\, Aubier\, 1998) : Das Begehren nach Ethik;\n(Direction) Lacan et le contre-transfert (Paris\, Presses Universitaires de France\, 2011) : (Richtung) Lacan und die Gegenübertragung.
URL:https://psybi-berlin.de/event/freud-hat-es-nicht-noetig-mich-zu-sehen-damit-er-mich-anschaut-angeht/
CATEGORIES:Vorträge
END:VEVENT
END:VCALENDAR